BEGIN:VCALENDAR
VERSION:2.0
PRODID:-//Astrology Austin! - ASA &amp; Astram - ECPv6.11.1//NONSGML v1.0//EN
CALSCALE:GREGORIAN
METHOD:PUBLISH
X-ORIGINAL-URL:https://astrologyaustin.org
X-WR-CALDESC:Events for Astrology Austin! - ASA &amp; Astram
REFRESH-INTERVAL;VALUE=DURATION:PT1H
X-Robots-Tag:noindex
X-PUBLISHED-TTL:PT1H
BEGIN:VTIMEZONE
TZID:America/Chicago
BEGIN:DAYLIGHT
TZOFFSETFROM:-0600
TZOFFSETTO:-0500
TZNAME:CDT
DTSTART:20190310T080000
END:DAYLIGHT
BEGIN:STANDARD
TZOFFSETFROM:-0500
TZOFFSETTO:-0600
TZNAME:CST
DTSTART:20191103T070000
END:STANDARD
END:VTIMEZONE
BEGIN:VEVENT
DTSTART;TZID=America/Chicago:20191123T183000
DTEND;TZID=America/Chicago:20191123T210000
DTSTAMP:20260423T064838
CREATED:20191022T070658Z
LAST-MODIFIED:20191105T041203Z
UID:2587-1574533800-1574542800@astrologyaustin.org
SUMMARY:SPECIAL SEMINAR: NFL/UT Star Ricky Williams - Living Through Astrology!
DESCRIPTION:SEMINAR ANNOUNCEMENT: MARK YOUR CALENDARS — Saturday\, NOVEMBER 23rd! 6:30 to 9:00PM \nPLEASE CLICK HERE TO REGISTER! \nNFL Football Star\, UT Running Back\, Heisman trophy winner\, two-time All-American\, astrologer\, herbalist- Ricky Williams is coming to Austin! Hosted by Astrology Austin! \nThis seminar is slated to be an opening for an upcoming workshop and possible series of visits from Ricky to discuss evolutionary astrology! Ricky and his wife Linnea are bother passionate astrologers! They want to bring the message of why living with the astrological knowledge is so important in our time. \nRICKY WILLIAMS & ASTROLOGY: https://youtu.be/c8EUo5O31NA
URL:https://astrologyaustin.org/event/special-lecture-nfl-ut-star-ricky-williams-living-through-astrology/
CATEGORIES:ASTRAM Event
ATTACH;FMTTYPE=image/png:https://astrologyaustin.org/wp-content/uploads/2019/10/AA-Ricky-Nov-Talk-Revised-INSTAGRAM-Promo.png
END:VEVENT
BEGIN:VEVENT
DTSTART;TZID=America/Chicago:20191005T100000
DTEND;TZID=America/Chicago:20191006T170000
DTSTAMP:20260423T064838
CREATED:20190603T215527Z
LAST-MODIFIED:20190820T193552Z
UID:2522-1570269600-1570381200@astrologyaustin.org
SUMMARY:A.T. Mann Workshop
DESCRIPTION:Event Listing Coming October 5th & 6th\n \nFor Full Description and To Register Click Here:\n_________________________________\nWeekend Events for Tad Mann:\n-Welcome Dinner for A.T. Mann\nThursday\, October 3rd\, 7:00 pm – 9:00 pm\nRSVP for Private Dinner.\n(Location pending)  \n\nASA Special Lecture: A.T. Mann “Conception + Gestation + Birth = Your Creativity”\nFRIDAY October 4 @ 7:00 pm – 9:00 pm\nAOMA Westgate\n$15 for ASA Members (this is a SPECIAL GUEST lecture)\n$20 for non-Members\nFREE with Paid Workshop Package!\n\n2-DAY WEEKEND WORKSHOP\nSat\, October 5 @ 10am-5pm & Sun\, October 6 @ 10am-4pm\nLotus Bend Sanctuary\n\nWE WILL BE WORKING WITH YOUR PERSONAL CHARTSA New Vision of Astrology: Navigating Your Life Only $250 Early Bird for ASA Members!! $270 for Non-Members.. $275 For members and $295 for Non-members AFTER Sept 22nd! \n\n 
URL:https://astrologyaustin.org/event/a-t-mann-workshop/
LOCATION:Lotus Bend Sanctuary\, 2808 Robin Road\, Manchaca\, TX\, 78652\, United States
CATEGORIES:ASTRAM Event
ATTACH;FMTTYPE=image/jpeg:https://astrologyaustin.org/wp-content/uploads/2019/06/astrologytours_master__detail_carousel.jpg
END:VEVENT
BEGIN:VEVENT
DTSTART;TZID=America/Chicago:20190602T100000
DTEND;TZID=America/Chicago:20190602T170000
DTSTAMP:20260423T064838
CREATED:20190326T032435Z
LAST-MODIFIED:20190522T222544Z
UID:2465-1559469600-1559494800@astrologyaustin.org
SUMMARY:ASTRAM Clinic-Lynn Bell:"Border Crossings - The Eighth House "
DESCRIPTION:Sunday\, June 2nd\, 10am – 5pmLotus Bend Sanctuary(Bring lunch\, casual wear)-Early bird price until May 29th: $65 Members & $80 Non Members-After and at the door: $80 Members & $95 Non-members \nBorder Crossings – The 8th House \nThe 8th house describes the many border crossings of our lives\, from sexual initiation\, to the passage between life and death.As the entrance to the underworld in Hellenistic astrology\, it plunges us into the unknown\, and offers an initiation. Depression and guilt may often be symptoms of being ‘stuck here. It links us to others energetically\, sexually\, financially\, and is fundamental in synastry\, connecting the realms of ‘here’ and there’. Planets here can keeps us tethered or bring us to a necessary crisis. We will look at natal placements and rulers\, as well as the activation of this house via progressions and transits. bring your charts to use as examples\, as time allows. \n________________________________________________________________  \nBIO:   \n Lynn Bell is a Paris-based astrologer whose work spans multiple cultures as a speaker\, teacher\, author and consultant in astrology for more than 25 years. Living in France\, Lynn has developed a strongly cyclic approach to astrology and blended it with her own psychological work as well as training in Eriksonian Hypnosis and work in family therapy. A background in literature and sociology come together in a keen interest in the relationship between the individual and collective cycles. She has spoken at most of the major astrology conferences in the world\, UAC\, ISAR\, the World Congress in Switzerland and the FAA in Australia\, as well as many other venues in the UK and Europe\, Mexico and the US. She has been a tutor for The Faculty of Astrological Studies Summer school in Oxford\, and teaches seminars internationally. She has recently taught seminars in Austria\, Norway\, Holland and Germany\, as well as France and Mexico. Lynn has been teaching at The Centre for Psychological Astrology in London since 1995. Her articles have appeared in The Mountain Astrologer\, Apollon\, The AA Journal\, Meridian and other major astrological publications. Her most recent book with CPA Press is Cycles of Light: Exploring the Mysteries of Solar Returns. She is co-author of The Mars Quartet (with Darby Costello\, Liz Greene and Melanie Reinhart)and the author of Planetary Threads which explores family patterns in astrology. She helped create L’Association Française d’Astropsychologie in Paris. \n			 \n				\n				\n				REGISTER NOW!!\n*We have been alerted that there was an issue with the broken “Non-Member” registration link. Thank you for registering regardless! We will be rectifying the issue with those who registered! And you are also invited to become an ASA member! \n			 \n			 \n				\n				\n			 \n				\n				\n				\n				\n				\n				\n				GROUP MEMBERS\n			 \n				ASA Members\n			\n			 \n				\n				\n				\n				\n				\n				GUEST Non-MEMBERS\n			 \n				Non-Members\n			\n			 \n				\n				\n			 \n				\n				\n				\n				\n				\n				\n				You may wish to confirm your registration by dropping us an email at austin.astrology@gmail.com!\n  \n			 \n			 \n				\n				\n			 \n				\n				\n			 \n				\n				\n				\n				\n					\n				\n				\n				\n				\n				\n				\n				\nNOTE: This gathering is at Lotus Bend Sanctuary inSouth Austin/Manchaca – 2808 Robin Road
URL:https://astrologyaustin.org/event/astram-clinic-lynn-bellborder-crossings-the-eight-house/
LOCATION:Lotus Bend Sanctuary\, 2808 Robin Road\, Manchaca\, TX\, 78652\, United States
CATEGORIES:ASTRAM Event
END:VEVENT
BEGIN:VEVENT
DTSTART;TZID=America/Chicago:20190330T140000
DTEND;TZID=America/Chicago:20190330T160000
DTSTAMP:20260423T064838
CREATED:20190125T233013Z
LAST-MODIFIED:20190325T175813Z
UID:1957-1553954400-1553961600@astrologyaustin.org
SUMMARY:ASTRAM- Human Design & Astrology- John Cole
DESCRIPTION:“Introduction to Human Design”\nOne of ASA’s early members\, astrologer John Cole\, is returning to engage us with his in-depth look of the Human Design System with Astrology at its core. Human Design is a revealed system that synthesizes astrology\, the I-Ching\, the Kabbalah and the Hindu-Brahmin Chakra systems with current scientific knowledge. \nUsing the time of our birth\, Human Design is able to define the forces that influence our bodies and personalities\, helping us to understand the cycles\, characteristics\, and themes that make us who we are. It shows us how our energy is designed to operate and provides us with an experiential framework for living and making decisions as ourselves.\n\nIn this mini-workshop\, John will introduce the Human Design system\, giving an overview of this deep and expansive system of knowledge and will provide participants with an overview of several important aspects of their personal design.\n\nASTRAM Special Classes:\n$22 for the 2 hour class\n$18 for ASA/ASTRAM members & Affiliates\n___________________________________________________ \nBio: \n \nJohn Cole is a practicing astrologer and certified Human Design Analyst living in Austin\, Texas. A student of astrology for over 25 years\, he has explored various branches and approaches including Hellenistic\, Jyotish/Vedic\, Uranian/Symmetrical\, and modern psychological astrology with an orientation and focus on what works consistently best in practice. John ran the South Texas Astrology Retreat for 5 years with Maria Mateus and Melanie Schlossberg which brought in leading astrology teachers in an intimate workshop setting over the course of a weekend. In early 2015\, he was introduced to the Human Design system by a friend and fellow astrologer and entered into a deep immersion in this experiential body of knowledge. He recently completed a two and a half year program to become a certified Human Design analyst and regularly works with clients using Human Design and astrology. John is married and has a young daughter and son. He actively practices martial arts and enjoys studying a wide range of metaphysical subjects. His passion is consciousness exploration and working with clients one on one.
URL:https://astrologyaustin.org/event/astram-human-design-astrology-john-cole/
LOCATION:Lotus Bend Sanctuary\, 2808 Robin Road\, Manchaca\, TX\, 78652\, United States
CATEGORIES:ASTRAM Event
ATTACH;FMTTYPE=image/jpeg:https://astrologyaustin.org/wp-content/uploads/2019/01/A-Complete-Guide-to-Human-Design-Updated.jpg
END:VEVENT
BEGIN:VEVENT
DTSTART;TZID=America/Chicago:20190223T140000
DTEND;TZID=America/Chicago:20190223T160000
DTSTAMP:20260423T064838
CREATED:20190125T220426Z
LAST-MODIFIED:20190304T185040Z
UID:1931-1550930400-1550937600@astrologyaustin.org
SUMMARY:ASTRAM- Dream Magic & Astrology - Virginia Palmer\, PhD
DESCRIPTION:Dream Magic & Astrology \nDream Magic\, Becoming a Lucid Dreamer (Part 1): \nDo you want to consciously direct your night Dreams? Do you want to increase your Dream memory as well as Dream interpretation? Do you want to know how your astrology chart relates to your Dream world? Do you want to know the best time to “ask for” Healing Dreams\, Creating Dreams\, Relationship Dreams\, Soul Dreams? Do you want to manifest your night Dreams into your physical reality? \nIn this DreamShop you will connect with “The Dreamers” from the Ancient civilization of Lemuria\, the origin of our first physical world. We will go to the Temple of Dreams in Lemuria\, meet your personal Dreamers as well as the Lemurian Dreamer. \nYou will experience the following:\n• Awaken the Dreamer Within\n• Learn techniques to direct night dreams to manifest your desires\n• Receive Dream interpretation from your Dreamer Guides\n• Receive information about current issue\, new directions\n• Discover more of your purpose and destiny \nYou will co-create with the Dreamers to bring night Dreams into your daily life. Dream Magic gives you the power to “Create/Manifest Your Reality 24/7” \nPart II – If you wish you can join us for\, the next level at the next scheduled time in the months to follow.. \nA little more information on Lucid Dreaming:\nLucid dreaming is being conscious that you are dreaming\, what you are dreaming while you are still dreaming. You can become inter-active with your Dreams when you are a conscious Lucid Dreamer. You can bring insights from the sub-conscious\, unconscious minds and Higher Self into the conscious self. The conscious mind can then make positive choices with greater \nASTRAM Transformation Classes:\n$22 for the 2 hour class\n$18 for ASA/ASTRAM members \nPlease plan arrive 15 mins ahead of schedule to get settled! 
URL:https://astrologyaustin.org/event/virginia-palmer/
LOCATION:Lotus Bend Sanctuary\, 2808 Robin Road\, Manchaca\, TX\, 78652\, United States
CATEGORIES:ASTRAM Event
ATTACH;FMTTYPE=image/png:https://astrologyaustin.org/wp-content/uploads/2019/01/ASA-VP.png
END:VEVENT
END:VCALENDAR